BEGIN:VCALENDAR
PRODID:-//hacksw/handcal//NONSGML v1.0//EN
VERSION:2.0
METHOD:PUBLISH
BEGIN:VEVENT
DTSTART:20240222T220000Z
DTEND:20240223T000000Z
LOCATION:Lancaster Country Club
UID:2421520240222T220000ZFederal Reserve Economic Outlook
DTSTAMP:20260420T102122Z
DESCRIPTION:\n"Federal Reserve Economic Outlook 2024"  \n \nNational and Regional Economic Update 2024\n \n·        What has improved in the past six months?\n \n·        What are current challenges?\n \n·        What is the outlook for inflation?\n \n·        Changes in consumer/worker behavior\n \n·        Changes in demographic factors\n \n·        Impact of domestic migration activities\n    \n \nSpeaker:  Kali Aloisi is an economic outreach associate. In her role, Kali contributes to research done at the Bank. She also shares the results of the Bank’s economic research with businesses, financial institutions, and community stakeholders in the Third District. Kali aims to provide tangible insights on the economy that people can use in their own communities. Kali and her team also create open dialogues with the people of the District that contribute to the Bank’s understanding of economic conditions on the ground.\n \nKali is invested in doing work that promotes the improvement of people’s social and economic conditions. She began her career in social policy research, where she applied research principles and economic ideas to issues related to economic mobility, housing, and health. Through that work, she garnered a personal interest in data and statistical analysis and enjoys applying those concepts to understanding real world problems.\n \nKali has a master’s degree in applied statistics and a bachelor’s degree in economics with a minor in community action and social change from the University of Michigan.\n
SUMMARY:Federal Reserve Economic Outlook - Lancaster County Estate Planning Council 
PRIORITY:3
BEGIN:VALARM
TRIGGER:PT18H
ACTION:DISPLAY
DESCRIPTION:Reminder
END:VALARM
END:VEVENT
END:VCALENDAR